BEGIN:VCALENDAR
VERSION:2.0
PRODID:-//Rancho Madrono - ECPv6.15.18//NONSGML v1.0//EN
CALSCALE:GREGORIAN
METHOD:PUBLISH
X-ORIGINAL-URL:https://www.ranchomadrono.com
X-WR-CALDESC:Events for Rancho Madrono
REFRESH-INTERVAL;VALUE=DURATION:PT1H
X-Robots-Tag:noindex
X-PUBLISHED-TTL:PT1H
BEGIN:VTIMEZONE
TZID:America/North_Dakota/Center
BEGIN:DAYLIGHT
TZOFFSETFROM:-0600
TZOFFSETTO:-0500
TZNAME:CDT
DTSTART:20200308T080000
END:DAYLIGHT
BEGIN:STANDARD
TZOFFSETFROM:-0500
TZOFFSETTO:-0600
TZNAME:CST
DTSTART:20201101T070000
END:STANDARD
BEGIN:DAYLIGHT
TZOFFSETFROM:-0600
TZOFFSETTO:-0500
TZNAME:CDT
DTSTART:20210314T080000
END:DAYLIGHT
BEGIN:STANDARD
TZOFFSETFROM:-0500
TZOFFSETTO:-0600
TZNAME:CST
DTSTART:20211107T070000
END:STANDARD
BEGIN:DAYLIGHT
TZOFFSETFROM:-0600
TZOFFSETTO:-0500
TZNAME:CDT
DTSTART:20220313T080000
END:DAYLIGHT
BEGIN:STANDARD
TZOFFSETFROM:-0500
TZOFFSETTO:-0600
TZNAME:CST
DTSTART:20221106T070000
END:STANDARD
BEGIN:DAYLIGHT
TZOFFSETFROM:-0600
TZOFFSETTO:-0500
TZNAME:CDT
DTSTART:20230312T080000
END:DAYLIGHT
BEGIN:STANDARD
TZOFFSETFROM:-0500
TZOFFSETTO:-0600
TZNAME:CST
DTSTART:20231105T070000
END:STANDARD
END:VTIMEZONE
BEGIN:VTIMEZONE
TZID:America/Chicago
BEGIN:DAYLIGHT
TZOFFSETFROM:-0600
TZOFFSETTO:-0500
TZNAME:CDT
DTSTART:20200308T080000
END:DAYLIGHT
BEGIN:STANDARD
TZOFFSETFROM:-0500
TZOFFSETTO:-0600
TZNAME:CST
DTSTART:20201101T070000
END:STANDARD
BEGIN:DAYLIGHT
TZOFFSETFROM:-0600
TZOFFSETTO:-0500
TZNAME:CDT
DTSTART:20210314T080000
END:DAYLIGHT
BEGIN:STANDARD
TZOFFSETFROM:-0500
TZOFFSETTO:-0600
TZNAME:CST
DTSTART:20211107T070000
END:STANDARD
BEGIN:DAYLIGHT
TZOFFSETFROM:-0600
TZOFFSETTO:-0500
TZNAME:CDT
DTSTART:20220313T080000
END:DAYLIGHT
BEGIN:STANDARD
TZOFFSETFROM:-0500
TZOFFSETTO:-0600
TZNAME:CST
DTSTART:20221106T070000
END:STANDARD
END:VTIMEZONE
BEGIN:VEVENT
DTSTART;TZID=America/North_Dakota/Center:20211106T060000
DTEND;TZID=America/North_Dakota/Center:20220116T170000
DTSTAMP:20260421T071050
CREATED:20210524T174333Z
LAST-MODIFIED:20210524T174333Z
UID:2749-1636178400-1642352400@www.ranchomadrono.com
SUMMARY:Opening of Rifle Season For Whitetail Deer
DESCRIPTION:Opening of the rifle season for whitetail deer – hunt at the ranch with a rifle or shotgun.
URL:https://www.ranchomadrono.com/event/opening-of-rifle-season-for-whitetail-deer/
LOCATION:Bandera County\, TX\, United States
CATEGORIES:Hunting
ATTACH;FMTTYPE=image/jpeg:https://www.ranchomadrono.com/wp-content/uploads/2021/01/Successful-deer-hunting-trip-near-San-Antonio-Texas.jpg
END:VEVENT
BEGIN:VEVENT
DTSTART;TZID=America/Chicago:20211005T060000
DTEND;TZID=America/Chicago:20211105T170000
DTSTAMP:20260421T071050
CREATED:20210524T173931Z
LAST-MODIFIED:20210524T175822Z
UID:2744-1633413600-1636131600@www.ranchomadrono.com
SUMMARY:Opening of Archery Season
DESCRIPTION:Opening of the archery season for whitetail deer – hunt at the ranch with a bow.
URL:https://www.ranchomadrono.com/event/opening-of-archery-season/
LOCATION:Bandera County\, TX\, United States
CATEGORIES:Hunting
ATTACH;FMTTYPE=image/jpeg:https://www.ranchomadrono.com/wp-content/uploads/2021/05/archer-2345211_1920.jpg
END:VEVENT
END:VCALENDAR