BEGIN:VCALENDAR
VERSION:2.0
PRODID:-//Rancho Madrono - ECPv6.15.18//NONSGML v1.0//EN
CALSCALE:GREGORIAN
METHOD:PUBLISH
X-ORIGINAL-URL:https://www.ranchomadrono.com
X-WR-CALDESC:Events for Rancho Madrono
REFRESH-INTERVAL;VALUE=DURATION:PT1H
X-Robots-Tag:noindex
X-PUBLISHED-TTL:PT1H
BEGIN:VTIMEZONE
TZID:America/North_Dakota/Center
BEGIN:DAYLIGHT
TZOFFSETFROM:-0600
TZOFFSETTO:-0500
TZNAME:CDT
DTSTART:20200308T080000
END:DAYLIGHT
BEGIN:STANDARD
TZOFFSETFROM:-0500
TZOFFSETTO:-0600
TZNAME:CST
DTSTART:20201101T070000
END:STANDARD
BEGIN:DAYLIGHT
TZOFFSETFROM:-0600
TZOFFSETTO:-0500
TZNAME:CDT
DTSTART:20210314T080000
END:DAYLIGHT
BEGIN:STANDARD
TZOFFSETFROM:-0500
TZOFFSETTO:-0600
TZNAME:CST
DTSTART:20211107T070000
END:STANDARD
BEGIN:DAYLIGHT
TZOFFSETFROM:-0600
TZOFFSETTO:-0500
TZNAME:CDT
DTSTART:20220313T080000
END:DAYLIGHT
BEGIN:STANDARD
TZOFFSETFROM:-0500
TZOFFSETTO:-0600
TZNAME:CST
DTSTART:20221106T070000
END:STANDARD
END:VTIMEZONE
BEGIN:VEVENT
DTSTART;TZID=America/North_Dakota/Center:20211023T190000
DTEND;TZID=America/North_Dakota/Center:20211023T220000
DTSTAMP:20260421T052523
CREATED:20210524T181136Z
LAST-MODIFIED:20210524T192809Z
UID:2771-1635015600-1635026400@www.ranchomadrono.com
SUMMARY:Lost Mule Band - Moondance Outdoor Concert
DESCRIPTION:Lost Mule Band\nGrab your lawn chairs\, coolers\, and picnic\, and head on over to the Cibolo Nature Center for some music and fun under the majestic oaks! \nDoors 7 pm & Music 7:30 pm
URL:https://www.ranchomadrono.com/event/moondance-outdoor-concert-boerne-6/
LOCATION:Cibolo Nature Center\, 140 City Park Rd.\, Boerne\, TX\, United States
CATEGORIES:Music
ATTACH;FMTTYPE=image/png:https://www.ranchomadrono.com/wp-content/uploads/2021/05/MoondanceChamber.png
END:VEVENT
BEGIN:VEVENT
DTSTART;TZID=America/North_Dakota/Center:20210918T190000
DTEND;TZID=America/North_Dakota/Center:20210918T220000
DTSTAMP:20260421T052523
CREATED:20210524T181058Z
LAST-MODIFIED:20210524T193055Z
UID:2768-1631991600-1632002400@www.ranchomadrono.com
SUMMARY:Blake Torrey - Moondance Outdoor Concert
DESCRIPTION:Blake Torrey\nGrab your lawn chairs\, coolers\, and picnic\, and head on over to the Cibolo Nature Center for some music and fun under the majestic oaks! \nDoors 7 pm & Music 7:30 pm
URL:https://www.ranchomadrono.com/event/moondance-outdoor-concert-boerne-5/
LOCATION:Cibolo Nature Center\, 140 City Park Rd.\, Boerne\, TX\, United States
CATEGORIES:Music
ATTACH;FMTTYPE=image/png:https://www.ranchomadrono.com/wp-content/uploads/2021/05/MoondanceChamber.png
END:VEVENT
BEGIN:VEVENT
DTSTART;TZID=America/North_Dakota/Center:20210821T190000
DTEND;TZID=America/North_Dakota/Center:20210821T220000
DTSTAMP:20260421T052523
CREATED:20210524T181021Z
LAST-MODIFIED:20210524T193025Z
UID:2766-1629572400-1629583200@www.ranchomadrono.com
SUMMARY:Big Cedar Fever - Moondance Outdoor Concert
DESCRIPTION:Big Cedar Fever\nGrab your lawn chairs\, coolers\, and picnic\, and head on over to the Cibolo Nature Center for some music and fun under the majestic oaks! \nDoors 7 pm & Music 7:30 pm
URL:https://www.ranchomadrono.com/event/moondance-outdoor-concert-boerne-4/
LOCATION:Cibolo Nature Center\, 140 City Park Rd.\, Boerne\, TX\, United States
CATEGORIES:Music
ATTACH;FMTTYPE=image/png:https://www.ranchomadrono.com/wp-content/uploads/2021/05/MoondanceChamber.png
END:VEVENT
BEGIN:VEVENT
DTSTART;TZID=America/North_Dakota/Center:20210724T190000
DTEND;TZID=America/North_Dakota/Center:20210724T220000
DTSTAMP:20260421T052523
CREATED:20210524T180945Z
LAST-MODIFIED:20210524T192957Z
UID:2764-1627153200-1627164000@www.ranchomadrono.com
SUMMARY:Dirty Rotten Swingband - Moondance Outdoor Concert
DESCRIPTION:Dirty Rotten Swingband\nGrab your lawn chairs\, coolers\, and picnic\, and head on over to the Cibolo Nature Center for some music and fun under the majestic oaks! \nDoors 7 pm & Music 7:30 pm
URL:https://www.ranchomadrono.com/event/moondance-outdoor-concert-boerne-3/
LOCATION:Cibolo Nature Center\, 140 City Park Rd.\, Boerne\, TX\, United States
CATEGORIES:Music
ATTACH;FMTTYPE=image/png:https://www.ranchomadrono.com/wp-content/uploads/2021/05/MoondanceChamber.png
END:VEVENT
BEGIN:VEVENT
DTSTART;TZID=America/North_Dakota/Center:20210626T190000
DTEND;TZID=America/North_Dakota/Center:20210626T220000
DTSTAMP:20260421T052523
CREATED:20210524T180816Z
LAST-MODIFIED:20210524T192919Z
UID:2762-1624734000-1624744800@www.ranchomadrono.com
SUMMARY:Britt Ballenger - Moondance Outdoor Concert
DESCRIPTION:Britt Ballenger\nGrab your lawn chairs\, coolers\, and picnic\, and head on over to the Cibolo Nature Center for some music and fun under the majestic oaks! \nDoors 7 pm & Music 7:30 pm
URL:https://www.ranchomadrono.com/event/moondance-outdoor-concert-boerne-2/
LOCATION:Cibolo Nature Center\, 140 City Park Rd.\, Boerne\, TX\, United States
CATEGORIES:Music
ATTACH;FMTTYPE=image/png:https://www.ranchomadrono.com/wp-content/uploads/2021/05/MoondanceChamber.png
END:VEVENT
BEGIN:VEVENT
DTSTART;TZID=America/North_Dakota/Center:20210626T100000
DTEND;TZID=America/North_Dakota/Center:20210626T180000
DTSTAMP:20260421T052523
CREATED:20210613T185608Z
LAST-MODIFIED:20210613T185608Z
UID:2787-1624701600-1624730400@www.ranchomadrono.com
SUMMARY:Ranch Riverfest
DESCRIPTION:Ranch Riverfest\nCar Show\, BBQ Cook-off with Live Music and Bands \n 
URL:https://www.ranchomadrono.com/event/ranch-riverfest/
LOCATION:Twin Elm Guest Ranch\, 810 Farm to Market Rd 470\, Bandera\, TX\, 78003\, United States
CATEGORIES:Music
ATTACH;FMTTYPE=image/jpeg:https://www.ranchomadrono.com/wp-content/uploads/2021/06/unnamed-1.jpg
END:VEVENT
BEGIN:VEVENT
DTSTART;TZID=America/North_Dakota/Center:20210529T190000
DTEND;TZID=America/North_Dakota/Center:20210529T220000
DTSTAMP:20260421T052523
CREATED:20210524T180735Z
LAST-MODIFIED:20210524T192850Z
UID:2756-1622314800-1622325600@www.ranchomadrono.com
SUMMARY:Almost Patsy Cline- Moondance Outdoor Concert
DESCRIPTION:Almost Patsy Cline\nGrab your lawn chairs\, coolers\, and picnic\, and head on over to the Cibolo Nature Center for some music and fun under the majestic oaks! \nDoors 7 pm & Music 7:30 pm
URL:https://www.ranchomadrono.com/event/moondance-outdoor-concert-boerne/
LOCATION:Cibolo Nature Center\, 140 City Park Rd.\, Boerne\, TX\, United States
CATEGORIES:Music
ATTACH;FMTTYPE=image/png:https://www.ranchomadrono.com/wp-content/uploads/2021/05/MoondanceChamber.png
END:VEVENT
END:VCALENDAR